BEGIN:VCALENDAR
VERSION:2.0
PRODID:-//Chilliwack &amp; District Seniors&#039; Resources Society - ECPv6.4.0.1//NONSGML v1.0//EN
CALSCALE:GREGORIAN
METHOD:PUBLISH
X-ORIGINAL-URL:https://cdsrs.ca
X-WR-CALDESC:Events for Chilliwack &amp; District Seniors&#039; Resources Society
REFRESH-INTERVAL;VALUE=DURATION:PT1H
X-Robots-Tag:noindex
X-PUBLISHED-TTL:PT1H
BEGIN:VTIMEZONE
TZID:America/Denver
BEGIN:DAYLIGHT
TZOFFSETFROM:-0700
TZOFFSETTO:-0600
TZNAME:MDT
DTSTART:20240310T090000
END:DAYLIGHT
BEGIN:STANDARD
TZOFFSETFROM:-0600
TZOFFSETTO:-0700
TZNAME:MST
DTSTART:20241103T080000
END:STANDARD
END:VTIMEZONE
BEGIN:VEVENT
DTSTART;TZID=America/Denver:20240425T021500
DTEND;TZID=America/Denver:20240425T031500
DTSTAMP:20260419T143202
CREATED:20240416T111234Z
LAST-MODIFIED:20240511T232447Z
UID:1573-1714011300-1714014900@cdsrs.ca
SUMMARY:Strength & Balance
DESCRIPTION:
URL:https://cdsrs.ca/event-detail/strength-balance-5/
END:VEVENT
BEGIN:VEVENT
DTSTART;TZID=America/Denver:20240425T021500
DTEND;TZID=America/Denver:20240425T031500
DTSTAMP:20260419T143202
CREATED:20240416T111317Z
LAST-MODIFIED:20240511T232442Z
UID:1575-1714011300-1714014900@cdsrs.ca
SUMMARY:Beginner Line Dancing
DESCRIPTION:
URL:https://cdsrs.ca/event-detail/beginner-line-dancing-2/
END:VEVENT
BEGIN:VEVENT
DTSTART;TZID=America/Denver:20240425T023000
DTEND;TZID=America/Denver:20240425T040000
DTSTAMP:20260419T143202
CREATED:20240416T111345Z
LAST-MODIFIED:20240511T232438Z
UID:1577-1714012200-1714017600@cdsrs.ca
SUMMARY:Walking Group
DESCRIPTION:
URL:https://cdsrs.ca/event-detail/walking-group-5/
END:VEVENT
BEGIN:VEVENT
DTSTART;TZID=America/Denver:20240425T030000
DTEND;TZID=America/Denver:20240425T050000
DTSTAMP:20260419T143202
CREATED:20240416T111415Z
LAST-MODIFIED:20240511T232436Z
UID:1579-1714014000-1714021200@cdsrs.ca
SUMMARY:Carpet Bowling
DESCRIPTION:
URL:https://cdsrs.ca/event-detail/carpet-bowling-5/
END:VEVENT
BEGIN:VEVENT
DTSTART;TZID=America/Denver:20240425T033000
DTEND;TZID=America/Denver:20240425T053000
DTSTAMP:20260419T143202
CREATED:20240416T111503Z
LAST-MODIFIED:20240511T232432Z
UID:1581-1714015800-1714023000@cdsrs.ca
SUMMARY:Line Dancing
DESCRIPTION:
URL:https://cdsrs.ca/event-detail/line-dancing-5/
END:VEVENT
BEGIN:VEVENT
DTSTART;TZID=America/Denver:20240425T060000
DTEND;TZID=America/Denver:20240425T080000
DTSTAMP:20260419T143202
CREATED:20240416T111528Z
LAST-MODIFIED:20240511T232429Z
UID:1583-1714024800-1714032000@cdsrs.ca
SUMMARY:Crib
DESCRIPTION:
URL:https://cdsrs.ca/event-detail/crib-2/
END:VEVENT
BEGIN:VEVENT
DTSTART;TZID=America/Denver:20240425T060000
DTEND;TZID=America/Denver:20240425T080000
DTSTAMP:20260419T143202
CREATED:20240416T111555Z
LAST-MODIFIED:20240511T232426Z
UID:1585-1714024800-1714032000@cdsrs.ca
SUMMARY:Pickleball
DESCRIPTION:
URL:https://cdsrs.ca/event-detail/pickleball-8/
END:VEVENT
END:VCALENDAR